
BEGIN:VCALENDAR
VERSION:2.0
PRODID:-//Outlook | Nebraska and Enrichment - ECPv6.15.20//NONSGML v1.0//EN
CALSCALE:GREGORIAN
METHOD:PUBLISH
X-ORIGINAL-URL:https://outlooken.org
X-WR-CALDESC:Events for Outlook | Nebraska and Enrichment
REFRESH-INTERVAL;VALUE=DURATION:PT1H
X-Robots-Tag:noindex
X-PUBLISHED-TTL:PT1H
BEGIN:VTIMEZONE
TZID:America/Chicago
BEGIN:DAYLIGHT
TZOFFSETFROM:-0600
TZOFFSETTO:-0500
TZNAME:CDT
DTSTART:20230312T080000
END:DAYLIGHT
BEGIN:STANDARD
TZOFFSETFROM:-0500
TZOFFSETTO:-0600
TZNAME:CST
DTSTART:20231105T070000
END:STANDARD
BEGIN:DAYLIGHT
TZOFFSETFROM:-0600
TZOFFSETTO:-0500
TZNAME:CDT
DTSTART:20240310T080000
END:DAYLIGHT
BEGIN:STANDARD
TZOFFSETFROM:-0500
TZOFFSETTO:-0600
TZNAME:CST
DTSTART:20241103T070000
END:STANDARD
BEGIN:DAYLIGHT
TZOFFSETFROM:-0600
TZOFFSETTO:-0500
TZNAME:CDT
DTSTART:20250309T080000
END:DAYLIGHT
BEGIN:STANDARD
TZOFFSETFROM:-0500
TZOFFSETTO:-0600
TZNAME:CST
DTSTART:20251102T070000
END:STANDARD
END:VTIMEZONE
BEGIN:VEVENT
DTSTART;TZID=America/Chicago:20240803T103000
DTEND;TZID=America/Chicago:20240803T103000
DTSTAMP:20260422T054538
CREATED:20240515T192924Z
LAST-MODIFIED:20240719T151620Z
UID:10000900-1722681000-1722681000@outlooken.org
SUMMARY:Teen Tandem Bike Ride for Ice Cream (Ages 10+) **rescheduled from 7/20**
DESCRIPTION:There’s nothing like an ice cream treat to help you make it through a bike ride in the summer heat. Summer break is going fast\, so let’s zoom down the Keystone Trail. Teens\, it’s time to partner up and pedal. We’re riding on two seated tandem bikes five miles out and five miles back\, with a stop in the middle for lunch and ice cream at Culver’s. \nWe have both stand-up standard tandems and sit-down recumbent tandems. With our different types of bikes and help from our experienced volunteer bike captains\, we can accommodate riders of all sizes and biking experiences. You can also bring your own bike partner if you prefer. Outlook provides bikes\, sighted volunteer bike captains\, helmets\, water\, lunch\, and ice cream. So get ready to feel the wind in your face\, pump those pedals\, and work up an appetite with your friends from Outlook Enrichment! \nQuestions? Email our Community Events Coordinator\, Megan.
URL:https://outlooken.org/event/teen-tandem-bike-ride-for-ice-cream-ages-10/
CATEGORIES:Recreation,Youth
ATTACH;FMTTYPE=image/jpeg:https://outlooken.org/wp-content/uploads/2024/05/abby-with-ice-cream-cone-scaled.jpg
END:VEVENT
BEGIN:VEVENT
DTSTART;TZID=America/Chicago:20240818T083000
DTEND;TZID=America/Chicago:20240818T110000
DTSTAMP:20260422T054538
CREATED:20231219T193426Z
LAST-MODIFIED:20240807T141635Z
UID:10000873-1723969800-1723978800@outlooken.org
SUMMARY:Tandem Bike Club - Corporate Cycling Challenge
DESCRIPTION:The Corporate Cycling Challenge is the biggest ride in Nebraska and allows you to take on a bigger challenge than our usual bike rides. There is an option for a 12-mile route or a 24-mile route. We have bike captains ready to ride no matter which route you choose. This ride starts in the Capitol District and offers a scenic\, flat journey through the Carter Lake area. Be a part of something big and join the Corporate Cycling Challenge this year. \n*Registration closes on the Monday of the event week* \nDirections for signing up for multiple rides at once:\nWe encourage you to sign up for any rides you are available for. To avoid having to register for each ride individually\, please note the bike rides you are available for in the section below that says\, “Anything besides vision loss that needs to be considered for adaptations.” \nFor riders with vision loss\, please list the rides you want to sign up for and ensure the number of rides you’re signing up for is reflected in the quantity field of your registration\, which is down towards the end. \nUpcoming rides: \n(You can copy\, paste\, and edit this list to make it easier) \n\nAdult Ride to Culver’s: Saturday\, July 13\, from 6:30 – 9 pm (Meet at Outlook)\nKids/Teen Ride to Culver’s: Saturday\, July 20\, from 10:30 am – 1 pm (Meet at Outlook)\nCorporate Cycling Challenge: Sunday\, August 18\, from 8:30 – 11 am (Meet at Capitol District)\nThe Riverfront: Saturday\, September 14\, from 9 – 11 am (Meet at Riverfront)\nBellevue Loop Trail: Saturday\, October 5\, from 9 – 11 am (Meet at Bellevue Loop Trail)\n\nIf you want to commit to one ride at a time\, you can always visit the website to sign up for rides individually. \nQuestions? Email our Community Events Coordinator\, Megan.
URL:https://outlooken.org/event/tandem-bike-club-corporate-cycling-challenge-3/
LOCATION:Old Mattress Factory Parking Lot\, 501 N 13th St\, Omaha\, NE\, United States
CATEGORIES:Adult,Recreation
ATTACH;FMTTYPE=image/jpeg:https://outlooken.org/wp-content/uploads/2023/12/bike-club-2023-dick-and-francie-scaled.jpg
END:VEVENT
BEGIN:VEVENT
DTSTART;TZID=America/Chicago:20240824T103000
DTEND;TZID=America/Chicago:20240824T140000
DTSTAMP:20260422T054538
CREATED:20240719T174019Z
LAST-MODIFIED:20240807T160439Z
UID:10001426-1724495400-1724508000@outlooken.org
SUMMARY:Watermelon Summer Splatter at the Shooting Range (Ages 19+)
DESCRIPTION:The guns will be reloaded for our return to the shooting range. Participants who joined us for a shooting event two years ago have been eager for our next one. \nWe will begin with an introduction and instructions from Patricia\, the owner of Incendio LLC Shooting Range in Plattsmouth. Yes\, we will be using real firearms with ammunition\, starting with 22-caliber rifles and progressing to more unique firearm options. To add to the summer fun\, this year\, we will be shooting at watermelons and steel targets\, which will give an adaptive touch\, providing a motivating and affirming sound with each hit. We aim to please with our Outlook adventures. \nJoin us in the middle of a cornfield for lunch\, a lesson\, and the opportunity to exercise your right to bear arms. Space is limited\, and transportation will be provided to and from the range starting at Outlook Nebraska.
URL:https://outlooken.org/event/watermelon-summer-splatter-at-the-shooting-range-ages-19/
LOCATION:Incendio LLC\, 7105 27th St\, Plattsmouth\, Nebraska\, 68048
CATEGORIES:Adult,Recreation
ATTACH;FMTTYPE=image/jpeg:https://outlooken.org/wp-content/uploads/2024/07/shooting-range-willa-pointing-at-hole-scaled.jpg
END:VEVENT
END:VCALENDAR