
BEGIN:VCALENDAR
VERSION:2.0
PRODID:-//Outlook | Nebraska and Enrichment - ECPv6.15.20//NONSGML v1.0//EN
CALSCALE:GREGORIAN
METHOD:PUBLISH
X-WR-CALNAME:Outlook | Nebraska and Enrichment
X-ORIGINAL-URL:https://outlooken.org
X-WR-CALDESC:Events for Outlook | Nebraska and Enrichment
REFRESH-INTERVAL;VALUE=DURATION:PT1H
X-Robots-Tag:noindex
X-PUBLISHED-TTL:PT1H
BEGIN:VTIMEZONE
TZID:America/Chicago
BEGIN:DAYLIGHT
TZOFFSETFROM:-0600
TZOFFSETTO:-0500
TZNAME:CDT
DTSTART:20230312T080000
END:DAYLIGHT
BEGIN:STANDARD
TZOFFSETFROM:-0500
TZOFFSETTO:-0600
TZNAME:CST
DTSTART:20231105T070000
END:STANDARD
BEGIN:DAYLIGHT
TZOFFSETFROM:-0600
TZOFFSETTO:-0500
TZNAME:CDT
DTSTART:20240310T080000
END:DAYLIGHT
BEGIN:STANDARD
TZOFFSETFROM:-0500
TZOFFSETTO:-0600
TZNAME:CST
DTSTART:20241103T070000
END:STANDARD
BEGIN:DAYLIGHT
TZOFFSETFROM:-0600
TZOFFSETTO:-0500
TZNAME:CDT
DTSTART:20250309T080000
END:DAYLIGHT
BEGIN:STANDARD
TZOFFSETFROM:-0500
TZOFFSETTO:-0600
TZNAME:CST
DTSTART:20251102T070000
END:STANDARD
END:VTIMEZONE
BEGIN:VEVENT
DTSTART;TZID=America/Chicago:20240921T150000
DTEND;TZID=America/Chicago:20240921T173000
DTSTAMP:20260422T090906
CREATED:20240903T141902Z
LAST-MODIFIED:20240926T151737Z
UID:10001429-1726930800-1726939800@outlooken.org
SUMMARY:BINGO (Ages 21+)
DESCRIPTION:Braille and large print BINGO is always a blast\, so we’re bringing it back for a third year! There is a $10 cash buy-in at the door\, which will be used as cash prizes for winners. Whether or not you fill your BINGO card\, the afternoon will be filled with fun\, friends\, caramel apples\, toppings\, and apple cider (spiked or regular). BINGO cards are available in Braille\, and large print or volunteer readers can be provided if neither Braille nor large print works for you.
URL:https://outlooken.org/event/bingo/
LOCATION:Outlook Enrichment\, 4125 S 72nd St\, Omaha\, NE\, 68127\, United States
CATEGORIES:Special Events
ATTACH;FMTTYPE=image/jpeg:https://outlooken.org/wp-content/uploads/2024/09/september-newsletter-bingo.jpg
END:VEVENT
END:VCALENDAR