
BEGIN:VCALENDAR
VERSION:2.0
PRODID:-//Outlook | Nebraska and Enrichment - ECPv6.15.20//NONSGML v1.0//EN
CALSCALE:GREGORIAN
METHOD:PUBLISH
X-WR-CALNAME:Outlook | Nebraska and Enrichment
X-ORIGINAL-URL:https://outlooken.org
X-WR-CALDESC:Events for Outlook | Nebraska and Enrichment
REFRESH-INTERVAL;VALUE=DURATION:PT1H
X-Robots-Tag:noindex
X-PUBLISHED-TTL:PT1H
BEGIN:VTIMEZONE
TZID:America/Chicago
BEGIN:DAYLIGHT
TZOFFSETFROM:-0600
TZOFFSETTO:-0500
TZNAME:CDT
DTSTART:20230312T080000
END:DAYLIGHT
BEGIN:STANDARD
TZOFFSETFROM:-0500
TZOFFSETTO:-0600
TZNAME:CST
DTSTART:20231105T070000
END:STANDARD
BEGIN:DAYLIGHT
TZOFFSETFROM:-0600
TZOFFSETTO:-0500
TZNAME:CDT
DTSTART:20240310T080000
END:DAYLIGHT
BEGIN:STANDARD
TZOFFSETFROM:-0500
TZOFFSETTO:-0600
TZNAME:CST
DTSTART:20241103T070000
END:STANDARD
BEGIN:DAYLIGHT
TZOFFSETFROM:-0600
TZOFFSETTO:-0500
TZNAME:CDT
DTSTART:20250309T080000
END:DAYLIGHT
BEGIN:STANDARD
TZOFFSETFROM:-0500
TZOFFSETTO:-0600
TZNAME:CST
DTSTART:20251102T070000
END:STANDARD
END:VTIMEZONE
BEGIN:VEVENT
DTSTART;VALUE=DATE:20241108
DTEND;VALUE=DATE:20241109
DTSTAMP:20260424T203137
CREATED:20240731T170034Z
LAST-MODIFIED:20240807T161223Z
UID:10001427-1731024000-1731110399@outlooken.org
SUMMARY:Group Workout Classes August 7 thru November 8
DESCRIPTION:Summer is coming to an end\, but the start of group workout classes is right around the bend. These classes are designed for\, attended by\, and instructed by workout warriors with vision loss. Movements are described verbally instead of demonstrated visually. Our fitness specialist\, Isaac\, can adapt any workout to match your current fitness levels or help you reach your future goals. The intensity of the workout is all up to you. You can get a full-body workout with lots of variety using body weight\, hand weights\, exercise bands\, and slam balls. Join anytime. \nWe are offering classes from August 7 through November 8 at the following times:\nMondays and Wednesdays 5:45 – 6:30 pm | Adaptive Crossfit and Kickboxing\nWednesdays and Fridays 2 – 2:45 pm | Intermediate Adaptive Crossfit\nWednesdays and Fridays 3:15 – 4 pm | Adaptive Crossfit and Weightlifting
URL:https://outlooken.org/event/group-workout-classes/
LOCATION:Outlook Enrichment\, 4125 S 72nd St\, Omaha\, NE\, 68127\, United States
CATEGORIES:Adult,Recreation
ATTACH;FMTTYPE=image/jpeg:https://outlooken.org/wp-content/uploads/2024/07/Crossfit-spring-of-2024-Isaac-kristal-Mickie-and-Francie.jpg
END:VEVENT
END:VCALENDAR