
BEGIN:VCALENDAR
VERSION:2.0
PRODID:-//Outlook | Nebraska and Enrichment - ECPv6.15.20//NONSGML v1.0//EN
CALSCALE:GREGORIAN
METHOD:PUBLISH
X-ORIGINAL-URL:https://outlooken.org
X-WR-CALDESC:Events for Outlook | Nebraska and Enrichment
REFRESH-INTERVAL;VALUE=DURATION:PT1H
X-Robots-Tag:noindex
X-PUBLISHED-TTL:PT1H
BEGIN:VTIMEZONE
TZID:America/Chicago
BEGIN:DAYLIGHT
TZOFFSETFROM:-0600
TZOFFSETTO:-0500
TZNAME:CDT
DTSTART:20240310T080000
END:DAYLIGHT
BEGIN:STANDARD
TZOFFSETFROM:-0500
TZOFFSETTO:-0600
TZNAME:CST
DTSTART:20241103T070000
END:STANDARD
BEGIN:DAYLIGHT
TZOFFSETFROM:-0600
TZOFFSETTO:-0500
TZNAME:CDT
DTSTART:20250309T080000
END:DAYLIGHT
BEGIN:STANDARD
TZOFFSETFROM:-0500
TZOFFSETTO:-0600
TZNAME:CST
DTSTART:20251102T070000
END:STANDARD
BEGIN:DAYLIGHT
TZOFFSETFROM:-0600
TZOFFSETTO:-0500
TZNAME:CDT
DTSTART:20260308T080000
END:DAYLIGHT
BEGIN:STANDARD
TZOFFSETFROM:-0500
TZOFFSETTO:-0600
TZNAME:CST
DTSTART:20261101T070000
END:STANDARD
END:VTIMEZONE
BEGIN:VEVENT
DTSTART;TZID=America/Chicago:20250828T140000
DTEND;TZID=America/Chicago:20250828T144500
DTSTAMP:20260422T044626
CREATED:20250124T213903Z
LAST-MODIFIED:20250724T151936Z
UID:10001435-1756389600-1756392300@outlooken.org
SUMMARY:Adaptive Group Exercise Classes (June 10 through August 28)
DESCRIPTION:Sweat it out this summer at Outlook with a new session of group exercise classes. Our adaptive fitness classes are led by and attended by blind and low vision workout warriors. Instead of visual demonstrations\, every move is thoroughly described\, and intensity levels can be customized to suit your individual needs. With the built-in accountability and encouragement of a supportive group atmosphere\, staying active has never been easier. \nIntermediate CrossFit: Tuesdays\, Wednesdays\, Thursdays from 2 – 2:45 p.m. \nQuestions? Contact our Community Events Coordinator.
URL:https://outlooken.org/event/adaptive-group-exercise-classes/
LOCATION:Outlook Enrichment\, 4125 S 72nd St\, Omaha\, NE\, 68127\, United States
CATEGORIES:Adult,Recreation
ATTACH;FMTTYPE=image/jpeg:https://outlooken.org/wp-content/uploads/2025/01/2025-crossfit-group-scaled.jpg
END:VEVENT
END:VCALENDAR